View In:
ArcGIS JavaScript
ArcGIS Online Map Viewer
ArcGIS Earth
ArcMap
ArcGIS Pro
View Footprint In:
ArcGIS Online Map Viewer
Service Description: Distributed Energy Resources - Hosting Capacity
Map Name: Layers
Legend
All Layers and Tables
Layers:
Description:
Service Item Id: d494ad23db304964b7f59780e3c9c9fc
Copyright Text: Central Hudson Gas & Electric
Spatial Reference:
102100
(3857)
Single Fused Map Cache: true
Tile Info:
- Height: 256
- Width: 256
- DPI: 96
-
Levels of Detail: 20
-
Level ID: 0
[ Start Tile, End Tile ]
- Resolution: 156543.03392800014
- Scale: 5.91657527591555E8
-
Level ID: 1
[ Start Tile, End Tile ]
- Resolution: 78271.51696399994
- Scale: 2.95828763795777E8
-
Level ID: 2
[ Start Tile, End Tile ]
- Resolution: 39135.75848200009
- Scale: 1.47914381897889E8
-
Level ID: 3
[ Start Tile, End Tile ]
- Resolution: 19567.87924099992
- Scale: 7.3957190948944E7
-
Level ID: 4
[ Start Tile, End Tile ]
- Resolution: 9783.93962049996
- Scale: 3.6978595474472E7
-
Level ID: 5
[ Start Tile, End Tile ]
- Resolution: 4891.96981024998
- Scale: 1.8489297737236E7
- Format: PNG
- Compression Quality: 0.0
- Origin: X: -2.0037508342787E7
Y: 2.0037508342787E7
- Spatial Reference: 102100
(3857)
Initial Extent:
XMin: -8476101.437585583
YMin: 5100735.843990369
XMax: -8069471.626297733
YMax: 5255907.195221407
Spatial Reference: 102100
(3857)
Full Extent:
XMin: -8417433.34339178
YMin: 5049685.985767781
XMax: -8047015.935890296
YMax: 5252621.808306093
Spatial Reference: 102100
(3857)
Units: esriMeters
Supported Image Format Types: PNG32,PNG24,PNG,JPG,DIB,TIFF,EMF,PS,PDF,GIF,SVG,SVGZ,BMP
Document Info:
Title: DER_Hosting_Capacity_Cached
Author: Central Hudson Gas & Electric
Comments: Distributed Energy Resources - Hosting Capacity
Subject: Distributed Energy Resources - Hosting Capacity
Category:
Keywords: Distributed,Generation,CHGE,Central,Hudson,Gas,&,Electric,Energy,Resources,Hosting,Capacity
AntialiasingMode: None
TextAntialiasingMode: Force
Supports Dynamic Layers: false
Resampling: false
MaxRecordCount: 1000
MaxImageHeight: 4096
MaxImageWidth: 4096
Supported Query Formats: JSON, geoJSON
Supports Query Data Elements:
Min Scale: 5.91657527591555E8
Max Scale: 18055.954822
Min LOD: 0
Max LOD: 15
Supports Datum Transformation: true
Child Resources:
Info
Supported Operations:
Export Map
Identify
QueryLegends
QueryDomains
Find
Return Updates