{
 "currentVersion": 10.91,
 "serviceDescription": "Grey Landbase",
 "mapName": "Layers",
 "description": "",
 "copyrightText": "Central Hudson Gas & Electric",
 "supportsDynamicLayers": false,
 "layers": [
  {
   "id": 0,
   "name": "Annotation",
   "parentLayerId": -1,
   "defaultVisibility": true,
   "subLayerIds": [
    1,
    3,
    5,
    7,
    9,
    14,
    19,
    24,
    29,
    34,
    39,
    68,
    93,
    118,
    143,
    164,
    147,
    170,
    167,
    169
   ],
   "minScale": 0,
   "maxScale": 0,
   "type": "Group Layer"
  },
  {
   "id": 34,
   "name": "Major Roads Annotation - 1:36,113",
   "parentLayerId": 0,
   "defaultVisibility": true,
   "subLayerIds": [
    35,
    36,
    37,
    62
   ],
   "minScale": 36113,
   "maxScale": 18057,
   "type": "Annotation Layer",
   "geometryType": "esriGeometryPolygon"
  },
  {
   "id": 35,
   "name": "I",
   "parentLayerId": 34,
   "defaultVisibility": true,
   "subLayerIds": null,
   "minScale": 36113,
   "maxScale": 18057
  },
  {
   "id": 36,
   "name": "U",
   "parentLayerId": 34,
   "defaultVisibility": true,
   "subLayerIds": null,
   "minScale": 36113,
   "maxScale": 18057
  },
  {
   "id": 37,
   "name": "S",
   "parentLayerId": 34,
   "defaultVisibility": true,
   "subLayerIds": null,
   "minScale": 36113,
   "maxScale": 18057
  },
  {
   "id": 62,
   "name": "C",
   "parentLayerId": 34,
   "defaultVisibility": true,
   "subLayerIds": null,
   "minScale": 36113,
   "maxScale": 18057
  },
  {
   "id": 39,
   "name": "Major Roads Annotation - 1:18,056",
   "parentLayerId": 0,
   "defaultVisibility": true,
   "subLayerIds": [
    64,
    41,
    66,
    43
   ],
   "minScale": 18057,
   "maxScale": 9029,
   "type": "Annotation Layer",
   "geometryType": "esriGeometryPolygon"
  },
  {
   "id": 64,
   "name": "I",
   "parentLayerId": 39,
   "defaultVisibility": true,
   "subLayerIds": null,
   "minScale": 18057,
   "maxScale": 9029
  },
  {
   "id": 41,
   "name": "U",
   "parentLayerId": 39,
   "defaultVisibility": true,
   "subLayerIds": null,
   "minScale": 18057,
   "maxScale": 9029
  },
  {
   "id": 66,
   "name": "S",
   "parentLayerId": 39,
   "defaultVisibility": true,
   "subLayerIds": null,
   "minScale": 18057,
   "maxScale": 9029
  },
  {
   "id": 43,
   "name": "C",
   "parentLayerId": 39,
   "defaultVisibility": true,
   "subLayerIds": null,
   "minScale": 18057,
   "maxScale": 9029
  },
  {
   "id": 68,
   "name": "Local Roads Annotation - 1:18,056",
   "parentLayerId": 0,
   "defaultVisibility": true,
   "subLayerIds": [
    45,
    47,
    49,
    51,
    53,
    55,
    57,
    59,
    61,
    87,
    89,
    91
   ],
   "minScale": 18057,
   "maxScale": 9029,
   "type": "Group Layer"
  },
  {
   "id": 93,
   "name": "Streets Annotation - 1:9,029",
   "parentLayerId": 0,
   "defaultVisibility": true,
   "subLayerIds": [
    70,
    72,
    74,
    76,
    78,
    80,
    82,
    84,
    86,
    112,
    114,
    116
   ],
   "minScale": 9029,
   "maxScale": 4515,
   "type": "Group Layer"
  },
  {
   "id": 118,
   "name": "Streets Annotation - 1:4,514",
   "parentLayerId": 0,
   "defaultVisibility": true,
   "subLayerIds": [
    95,
    97,
    99,
    101,
    103,
    105,
    107,
    109,
    111,
    145,
    139,
    141
   ],
   "minScale": 4515,
   "maxScale": 2258,
   "type": "Group Layer"
  },
  {
   "id": 143,
   "name": "Streets Annotation - 1:2,257",
   "parentLayerId": 0,
   "defaultVisibility": true,
   "subLayerIds": [
    120,
    122,
    124,
    126,
    128,
    130,
    132,
    134,
    136,
    166,
    140,
    162
   ],
   "minScale": 2258,
   "maxScale": 0,
   "type": "Group Layer"
  },
  {
   "id": 147,
   "name": "Water Polygons Annotation - 1:36,113",
   "parentLayerId": 0,
   "defaultVisibility": true,
   "subLayerIds": [
    168,
    149
   ],
   "minScale": 36113,
   "maxScale": 9027.977411,
   "type": "Annotation Layer",
   "geometryType": "esriGeometryPolygon"
  },
  {
   "id": 168,
   "name": "Water Body",
   "parentLayerId": 147,
   "defaultVisibility": true,
   "subLayerIds": null,
   "minScale": 36113,
   "maxScale": 9027.977411
  },
  {
   "id": 149,
   "name": "",
   "parentLayerId": 147,
   "defaultVisibility": false,
   "subLayerIds": null,
   "minScale": 288896,
   "maxScale": 144449
  },
  {
   "id": 170,
   "name": "WaterBody Annotation - 1:9,028",
   "parentLayerId": 0,
   "defaultVisibility": true,
   "subLayerIds": [
    151,
    153,
    155,
    157,
    159,
    171,
    163,
    165
   ],
   "minScale": 9029,
   "maxScale": 0,
   "type": "Group Layer"
  },
  {
   "id": 172,
   "name": "Census Populated Locality",
   "parentLayerId": -1,
   "defaultVisibility": true,
   "subLayerIds": null,
   "minScale": 0,
   "maxScale": 288896,
   "type": "Feature Layer",
   "geometryType": "esriGeometryPoint"
  },
  {
   "id": 173,
   "name": "Railroads - 1:72,225",
   "parentLayerId": -1,
   "defaultVisibility": true,
   "subLayerIds": null,
   "minScale": 72225,
   "maxScale": 0,
   "type": "Feature Layer",
   "geometryType": "esriGeometryPolyline"
  },
  {
   "id": 174,
   "name": "Major Roads",
   "parentLayerId": -1,
   "defaultVisibility": true,
   "subLayerIds": null,
   "minScale": 0,
   "maxScale": 288896,
   "type": "Feature Layer",
   "geometryType": "esriGeometryPolyline"
  },
  {
   "id": 185,
   "name": "Major Roads - 1:288,896",
   "parentLayerId": -1,
   "defaultVisibility": true,
   "subLayerIds": null,
   "minScale": 288896,
   "maxScale": 18057,
   "type": "Feature Layer",
   "geometryType": "esriGeometryPolyline"
  },
  {
   "id": 176,
   "name": "Local Roads - 1:144,449",
   "parentLayerId": -1,
   "defaultVisibility": true,
   "subLayerIds": null,
   "minScale": 144449,
   "maxScale": 18057,
   "type": "Feature Layer",
   "geometryType": "esriGeometryPolyline"
  },
  {
   "id": 177,
   "name": "Roadway Hardsurface Model - 1:18,057",
   "parentLayerId": -1,
   "defaultVisibility": true,
   "subLayerIds": null,
   "minScale": 18057,
   "maxScale": 0,
   "type": "Feature Layer",
   "geometryType": "esriGeometryPolygon"
  },
  {
   "id": 178,
   "name": "Hydrography",
   "parentLayerId": -1,
   "defaultVisibility": true,
   "subLayerIds": [
    179,
    180,
    181,
    182
   ],
   "minScale": 0,
   "maxScale": 0,
   "type": "Group Layer"
  },
  {
   "id": 179,
   "name": "CHASTA.Major_Water",
   "parentLayerId": 178,
   "defaultVisibility": true,
   "subLayerIds": null,
   "minScale": 0,
   "maxScale": 0,
   "type": "Feature Layer",
   "geometryType": "esriGeometryPolygon"
  },
  {
   "id": 180,
   "name": "CHASTA.Water_Polygons",
   "parentLayerId": 178,
   "defaultVisibility": true,
   "subLayerIds": null,
   "minScale": 0,
   "maxScale": 288896,
   "type": "Feature Layer",
   "geometryType": "esriGeometryPolygon"
  },
  {
   "id": 181,
   "name": "CHASTA.Water_Polygons",
   "parentLayerId": 178,
   "defaultVisibility": true,
   "subLayerIds": null,
   "minScale": 288895.277144,
   "maxScale": 0,
   "type": "Feature Layer",
   "geometryType": "esriGeometryPolygon"
  },
  {
   "id": 182,
   "name": "Linear Water",
   "parentLayerId": 178,
   "defaultVisibility": true,
   "subLayerIds": null,
   "minScale": 72225,
   "maxScale": 0,
   "type": "Feature Layer",
   "geometryType": "esriGeometryPolyline"
  },
  {
   "id": 183,
   "name": "Counties Serviced Areas",
   "parentLayerId": -1,
   "defaultVisibility": true,
   "subLayerIds": null,
   "minScale": 0,
   "maxScale": 0,
   "type": "Feature Layer",
   "geometryType": "esriGeometryPolygon"
  },
  {
   "id": 186,
   "name": "Building Footprints",
   "parentLayerId": -1,
   "defaultVisibility": true,
   "subLayerIds": null,
   "minScale": 9029,
   "maxScale": 0,
   "type": "Feature Layer",
   "geometryType": "esriGeometryPolygon"
  },
  {
   "id": 187,
   "name": "Census Minor Civil Divisions",
   "parentLayerId": -1,
   "defaultVisibility": true,
   "subLayerIds": null,
   "minScale": 0,
   "maxScale": 0,
   "type": "Feature Layer",
   "geometryType": "esriGeometryPolygon"
  },
  {
   "id": 188,
   "name": "Airports",
   "parentLayerId": -1,
   "defaultVisibility": true,
   "subLayerIds": [
    189,
    190
   ],
   "minScale": 0,
   "maxScale": 0,
   "type": "Group Layer"
  },
  {
   "id": 189,
   "name": "Airports",
   "parentLayerId": 188,
   "defaultVisibility": true,
   "subLayerIds": null,
   "minScale": 0,
   "maxScale": 0,
   "type": "Feature Layer",
   "geometryType": "esriGeometryPolygon"
  },
  {
   "id": 190,
   "name": "Airports",
   "parentLayerId": 188,
   "defaultVisibility": true,
   "subLayerIds": null,
   "minScale": 0,
   "maxScale": 0,
   "type": "Feature Layer",
   "geometryType": "esriGeometryPolygon"
  },
  {
   "id": 191,
   "name": "Census Places",
   "parentLayerId": -1,
   "defaultVisibility": true,
   "subLayerIds": null,
   "minScale": 0,
   "maxScale": 0,
   "type": "Feature Layer",
   "geometryType": "esriGeometryPolygon"
  },
  {
   "id": 192,
   "name": "Parks",
   "parentLayerId": -1,
   "defaultVisibility": true,
   "subLayerIds": null,
   "minScale": 0,
   "maxScale": 0,
   "type": "Feature Layer",
   "geometryType": "esriGeometryPolygon"
  },
  {
   "id": 193,
   "name": "Counties Serviced Areas",
   "parentLayerId": -1,
   "defaultVisibility": true,
   "subLayerIds": null,
   "minScale": 0,
   "maxScale": 0,
   "type": "Feature Layer",
   "geometryType": "esriGeometryPolygon"
  }
 ],
 "tables": [],
 "spatialReference": {
  "wkid": 102100,
  "latestWkid": 3857
 },
 "singleFusedMapCache": true,
 "tileInfo": {
  "rows": 256,
  "cols": 256,
  "dpi": 96,
  "format": "PNG",
  "compressionQuality": 0,
  "origin": {
   "x": -2.0037508342787E7,
   "y": 2.0037508342787E7
  },
  "spatialReference": {
   "wkid": 102100,
   "latestWkid": 3857
  },
  "lods": [
   {
    "level": 0,
    "resolution": 156543.03392800014,
    "scale": 5.91657527591555E8
   },
   {
    "level": 1,
    "resolution": 78271.51696399994,
    "scale": 2.95828763795777E8
   },
   {
    "level": 2,
    "resolution": 39135.75848200009,
    "scale": 1.47914381897889E8
   },
   {
    "level": 3,
    "resolution": 19567.87924099992,
    "scale": 7.3957190948944E7
   },
   {
    "level": 4,
    "resolution": 9783.93962049996,
    "scale": 3.6978595474472E7
   },
   {
    "level": 5,
    "resolution": 4891.96981024998,
    "scale": 1.8489297737236E7
   },
   {
    "level": 6,
    "resolution": 2445.98490512499,
    "scale": 9244648.868618
   },
   {
    "level": 7,
    "resolution": 1222.992452562495,
    "scale": 4622324.434309
   },
   {
    "level": 8,
    "resolution": 611.4962262813797,
    "scale": 2311162.217155
   },
   {
    "level": 9,
    "resolution": 305.74811314055756,
    "scale": 1155581.108577
   },
   {
    "level": 10,
    "resolution": 152.87405657041106,
    "scale": 577790.554289
   },
   {
    "level": 11,
    "resolution": 76.43702828507324,
    "scale": 288895.277144
   },
   {
    "level": 12,
    "resolution": 38.21851414253662,
    "scale": 144447.638572
   },
   {
    "level": 13,
    "resolution": 19.10925707126831,
    "scale": 72223.819286
   },
   {
    "level": 14,
    "resolution": 9.554628535634155,
    "scale": 36111.909643
   },
   {
    "level": 15,
    "resolution": 4.77731426794937,
    "scale": 18055.954822
   },
   {
    "level": 16,
    "resolution": 2.388657133974685,
    "scale": 9027.977411
   },
   {
    "level": 17,
    "resolution": 1.1943285668550503,
    "scale": 4513.988705
   },
   {
    "level": 18,
    "resolution": 0.5971642835598172,
    "scale": 2256.994353
   },
   {
    "level": 19,
    "resolution": 0.29858214164761665,
    "scale": 1128.497176
   }
  ]
 },
 "initialExtent": {
  "xmin": -8429381.537973724,
  "ymin": 5117904.167913605,
  "xmax": -8067375.772015303,
  "ymax": 5271083.972597024,
  "spatialReference": {
   "wkid": 102100,
   "latestWkid": 3857
  }
 },
 "fullExtent": {
  "xmin": -8414372.656282775,
  "ymin": 5014921.502079357,
  "xmax": -8086304.930882957,
  "ymax": 5270526.924664863,
  "spatialReference": {
   "wkid": 102100,
   "latestWkid": 3857
  }
 },
 "minScale": 5.91657527591555E8,
 "maxScale": 1128.497176,
 "minLOD": 0,
 "maxLOD": 19,
 "units": "esriMeters",
 "supportedImageFormatTypes": "PNG32,PNG24,PNG,JPG,DIB,TIFF,EMF,PS,PDF,GIF,SVG,SVGZ,BMP",
 "documentInfo": {
  "Title": "",
  "Author": "",
  "Comments": "Grey Landbase",
  "Subject": "Grey Landbase",
  "Category": "",
  "AntialiasingMode": "None",
  "TextAntialiasingMode": "Force",
  "Keywords": "Grey,Landbase"
 },
 "capabilities": "Map,Query,Data",
 "supportedQueryFormats": "JSON, geoJSON",
 "hasVersionedData": true,
 "exportTilesAllowed": false,
 "referenceScale": 0,
 "supportsDatumTransformation": true,
 "maxRecordCount": 1000,
 "maxImageHeight": 4096,
 "maxImageWidth": 4096,
 "supportedExtensions": "",
 "resampling": false,
 "serviceItemId": "d40851925763490abe56b5985227e665"
}
